BEGIN:VCALENDAR
VERSION:2.0
PRODID:-//Torque Body Shop - ECPv6.15.20//NONSGML v1.0//EN
CALSCALE:GREGORIAN
METHOD:PUBLISH
X-WR-CALNAME:Torque Body Shop
X-ORIGINAL-URL:http://torquebodyshop.com
X-WR-CALDESC:Events for Torque Body Shop
REFRESH-INTERVAL;VALUE=DURATION:PT1H
X-Robots-Tag:noindex
X-PUBLISHED-TTL:PT1H
BEGIN:VTIMEZONE
TZID:UTC
BEGIN:STANDARD
TZOFFSETFROM:+0000
TZOFFSETTO:+0000
TZNAME:UTC
DTSTART:20250101T000000
END:STANDARD
END:VTIMEZONE
BEGIN:VEVENT
DTSTART;TZID=UTC:20260401T183000
DTEND;TZID=UTC:20260401T191500
DTSTAMP:20260421T131750
CREATED:20260330T160428Z
LAST-MODIFIED:20260330T160428Z
UID:2658-1775068200-1775070900@torquebodyshop.com
SUMMARY:BSU CHAARG RIDE w/ Nikki
DESCRIPTION:The BSU CHAARG gals will be in the house at 6:30 PM on Wednesday\, 4/1 for a private RIDE with Nikki! \nWe can’t wait to host them. If you are ever looking for a private event for your group email christina@torquebodyshop.com and we will get you set up! \n 
URL:http://torquebodyshop.com/event/bsu-chaarg-ride-w-nikki/
LOCATION:Torque Body Shop\, 800 W Main St\, Ste 210\, Boise\, ID\, 83702\, United States
END:VEVENT
END:VCALENDAR